BEGIN:VCALENDAR
VERSION:2.0
PRODID:iCalendar-Evo
X-WR-TIMEZONE:US/Pacific
BEGIN:VEVENT
DTSTAMP:20260421THI4120Z
URL:https://www.columbiacountyor.gov/events/99469/
DTSTART;TZID=US/Pacific:20260422T100000
DTEND;TZID=US/Pacific:20260422T120000
SUMMARY:Board of Commissioners meeting 
DESCRIPTION:**Notice of Meeting Cancellation and Commissioner Tour**  Columbia County Board of Commissioners**  This is to inform you that the Columbia County Board of Commissioners has canceled its upcoming meeting for April 22, 2026, at 10:00 a.m.  The Board of Commissioners will be touring The Trojan Nuclear Power Plant,  Oregon's only commercial nuclear power plant, located on the Columbia River near Rainier, which operated from 1976 to 1993. This tour will take place from 10:00 a.m. – 12:00 p.m.    This notice is dated April 20, 2026.  For the Board of County Commissioners** Columbia County, Oregon**  By: s/ Jacyn Normine  Jacyn Normine  Board Office Administrator  **Public Meeting Notice:** For your information  Spotlight News  KOHI Radio  Columbia County Public Information Officer 
UID:0920612c-d22c-49b1-822d-142c0e0b0c0c20260422T170000@www.columbiacountyor.gov
END:VEVENT
END:VCALENDAR