BEGIN:VCALENDAR
VERSION:2.0
PRODID:iCalendar-Evo
X-WR-TIMEZONE:US/Pacific
BEGIN:VEVENT
DTSTAMP:20260421THI3925Z
URL:https://www.columbiacountyor.gov/events/99235/
DTSTART;TZID=US/Pacific:20260406T133000
SUMMARY:Board of Commissioners - Special Meeting 
DESCRIPTION:BEFORE THE BOARD OF COUNTY COMMISSIONERS FOR COLUMBIA COUNTY  SPECIAL MEETING NOTICE    Notice is hereby given that the Columbia County Board of Commissioners will hold a special meeting on Monday, April 6, 2026, at or after 1:30 p.m. from the John Gumm Building and Civic Center, St. Helens, OR. 97051.    The purpose of this meeting is for the Board of County Commissioners to enter into  Executive Sessions Pursuant to     ORS 192.660(2)(d) to conduct deliberations with persons designated by the governing body to carry on labor negotiations and.    This is a public meeting except during  Executive Sessions.  No Public Comment will be received during this meeting.     Columbia County does not discriminate based on disability and will provide reasonable accommodations in accordance with the County’s ADA Policy. To request accommodations or to review the County’s ADA Policy, please contact the Board of Commissioners Office at 503-397-4322.   Dated this 2nd day of April 2026  BOARD OF COUNTY COMMISSIONERS  FOR COLUMBIA COUNTY,           BY: ___s/Jacyn Normine ______ Jacyn Normine, Administrator Board of County Commissioners Office   PUBLIC MEETING NOTICE For your information:  Spotlight News www.columbiacountyor.gov/meetings  
LOCATION:John Gumm Building & Civic Center at 251 Saint Helens Street, Saint Helens, Oregon 97051
GEO:45.86343919983312;-122.79992980427738
STREET-ADDRESS:251 St. Helens Street
EXTENDED-ADDRESS:251 St. Helens Street
LOCALITY:St. Helens
REGION:Oregon
POSTAL-CODE:97051
UID:48951118-c0fc-4293-9806-867b06126be220260406T203000@www.columbiacountyor.gov
END:VEVENT
END:VCALENDAR