BEGIN:VCALENDAR
VERSION:2.0
PRODID:iCalendar-Evo
X-WR-TIMEZONE:US/Pacific
BEGIN:VEVENT
DTSTAMP:20260421THI3858Z
URL:https://www.columbiacountyor.gov/events/99089/
DTSTART;VALUE=DATE:20260628
SUMMARY:Board of Commissioners 
DESCRIPTION:BEFORE THE BOARD OF COUNTY COMMISSIONERS FOR COLUMBIA COUNTY Notice is hereby given that one or more of the County Commissioners will be attending the AOC Board of Directors Retreat June 28-30, 2026, in Sisters, OR. 97759. The purpose of the AOC Board of Directors is to meet over two days to collaborate, deliberate, and make recommendations for AOC priorities.   The Association of Oregon Counties connects and strengthens Oregon’s 36 counties by developing and sharing solutions to county issues through advocacy, research, and leadership development.  Dated 23rd day of March 2026 BOARD OF COUNTY COMMISSIONERS  FOR COLUMBIA COUNTY,   BY: ___s/Jacyn Normine ______ Jacyn Normine, Administrator Board of County Commissioners’ Office   PUBLIC MEETING NOTICE For your information:  Spotlight News   
STREET-ADDRESS:Five Pine Lodge
LOCALITY:Sisters 
REGION:Oregon
POSTAL-CODE:97759
UID:147d019b-5e53-44ec-8af4-358af064eda920260628T150000@www.columbiacountyor.gov
END:VEVENT
END:VCALENDAR