BEGIN:VCALENDAR
VERSION:2.0
PRODID:iCalendar-Evo
X-WR-TIMEZONE:US/Pacific
BEGIN:VEVENT
DTSTAMP:20260421THI3624Z
URL:https://www.columbiacountyor.gov/events/98901/
DTSTART;TZID=US/Pacific:20260316T145200
SUMMARY:Columbia County Museums Commission (CCMC)
DESCRIPTION:FOR COLUMBIA COUNTY, OREGON MEETING NOTICE COLUMBIA COUNTY MUSEUMS COMMISSION   Notice is hereby given that the Columbia County Museums Commission will hold a meeting on Monday, March 16, 2026, at or after 2:00 pm, Hybrid from the John Gumm Building and Civic Center, located at 251 St. Helens Street, ST. Helens, OR  CCMC Web Meeting Web Meeting ID: 275 631 287 121 92 Web Meeting Passcode: kz7Gd6cF    The purpose of this meeting is for the Columbia County Museums Commission to conduct business between the museums of Columbia County.    This is a public meeting except during the Executive Session.  No public comment will be heard at this meeting. Columbia County does not discriminate based on disability and will provide reasonable accommodations in accordance with the County’s ADA Policy. To request accommodations or to review the County’s ADA Policy, please contact the Board of Commissioners Office at 503-397-4322.   Dated this 10th day of March 2026   FOR COLUMBIA COUNTY, OREGON  BY: ___s/Jacyn Normine/Jn ______ Jacyn Normine, Administrator Board of County Commissioners Office  PUBLIC MEETING NOTICE For your information:  Spotlight News KOHI Radio 
LOCATION:John Gumm Building & Civic Center at 251 Saint Helens Street, Saint Helens, Oregon 97051
GEO:45.86343919983312;-122.79992980427738
STREET-ADDRESS:251 St. Helens Street 
EXTENDED-ADDRESS:251 St. Helens Street 
LOCALITY:St. Helens 
REGION:Oregon
POSTAL-CODE:97051
UID:60d8f7d6-3caa-431e-8918-c173d234c56720260316T215200@www.columbiacountyor.gov
END:VEVENT
END:VCALENDAR