BEGIN:VCALENDAR
VERSION:2.0
PRODID:iCalendar-Evo
X-WR-TIMEZONE:US/Pacific
BEGIN:VEVENT
DTSTAMP:20260419THI0414Z
URL:https://www.columbiacountyor.gov/events/95632/
DTSTART;TZID=US/Pacific:20251230T100000
SUMMARY:County Commissioners Meeting - December 30, 2025
DESCRIPTION:
LOCATION:John Gumm Building & Civic Center at 251 Saint Helens Street, Saint Helens, Oregon 97051
GEO:45.86343919983312;-122.79992980427738
STREET-ADDRESS:251 St. Helens Street 
EXTENDED-ADDRESS:251 St. Helens Street 
LOCALITY:St. Helens 
REGION:Oregon
POSTAL-CODE:97051
UID:95723018-0718-4813-be0b-a9e0e563777a20251230T180000@www.columbiacountyor.gov
END:VEVENT
END:VCALENDAR