BEGIN:VCALENDAR
VERSION:2.0
PRODID:iCalendar-Evo
X-WR-TIMEZONE:US/Pacific
BEGIN:VEVENT
DTSTAMP:20260419THI1030Z
URL:https://www.columbiacountyor.gov/events/95631/
DTSTART;TZID=US/Pacific:20251223T100000
SUMMARY:County Commissioners Meeting - Tuesday, December 23, 2025.
DESCRIPTION:
LOCATION:John Gumm Building & Civic Center at 251 Saint Helens Street, Saint Helens, Oregon 97051
GEO:45.86343919983312;-122.79992980427738
STREET-ADDRESS:251 St. Helens Street
LOCALITY:St. Helens 
REGION:Oregon
POSTAL-CODE:97051
UID:d6a90130-c1b3-4841-b74f-c7f75a85aacb20251223T180000@www.columbiacountyor.gov
END:VEVENT
END:VCALENDAR