BEGIN:VCALENDAR
VERSION:2.0
PRODID:iCalendar-Evo
X-WR-TIMEZONE:US/Pacific
BEGIN:VEVENT
DTSTAMP:20260421THI4200Z
URL:https://www.columbiacountyor.gov/events/94379/
DTSTART;TZID=US/Pacific:20251029T130000
SUMMARY:Board of Commissioners Work Session
DESCRIPTION:
LOCATION:John Gumm Building & Civic Center at 251 Saint Helens Street, Saint Helens, Oregon 97051
GEO:45.86343919983312;-122.79992980427738
STREET-ADDRESS:251 St. Helens Street
EXTENDED-ADDRESS:251 St. Helens Street
LOCALITY:Oregon
REGION:Oregon
POSTAL-CODE:97051
UID:90acfd59-8756-48fc-b0a7-b96b7509ae1420251029T200000@www.columbiacountyor.gov
END:VEVENT
END:VCALENDAR